BEGIN:VCALENDAR
VERSION:2.0
PRODID:-//Terres du Centre Martinique - ECPv6.15.20//NONSGML v1.0//EN
CALSCALE:GREGORIAN
METHOD:PUBLISH
X-ORIGINAL-URL:https://terresducentremartinique.fr
X-WR-CALDESC:Évènements pour Terres du Centre Martinique
REFRESH-INTERVAL;VALUE=DURATION:PT1H
X-Robots-Tag:noindex
X-PUBLISHED-TTL:PT1H
BEGIN:VTIMEZONE
TZID:America/Martinique
BEGIN:STANDARD
TZOFFSETFROM:-0400
TZOFFSETTO:-0400
TZNAME:AST
DTSTART:20250101T000000
END:STANDARD
END:VTIMEZONE
BEGIN:VEVENT
DTSTART;TZID=America/Martinique:20260307T090000
DTEND;TZID=America/Martinique:20260624T110000
DTSTAMP:20260419T181119
CREATED:20260211T152303Z
LAST-MODIFIED:20260224T175953Z
UID:10005264-1772874000-1782298800@terresducentremartinique.fr
SUMMARY:BALADE CULTURELLE AU COEUR DE SCHOELCHER
DESCRIPTION:“Culture\, Identité et Liberté…\, A la découverte de Schoelcher”  \nFondée en 1853\, Case-Navire devenue Schoelcher est une ville tournée vers son littoral et au carrefour de plusieurs écosystèmes d’exception. Station nautique\, Station de Tourisme\, Ville dynamique et sportive\, elle compte de nombreux atouts au nombre desquels l’art et la Culture visibles dans ses aménagements. \nLaissez-vous guider dans les rues du bourg de Schoelcher pour une balade plurielle\, intimiste et artistique le long des bords de mer et non loin des rives paisibles de la rivière Case-Navire. \nAu programme\, une visite incontournable où se mêlent architecture\, profane et sacré\, créations artistiques\, anecdotes avec notre guide expert. \n  \nVisite à pied \nDépart : 9h00 – Durée : 2h00 \nDépart : Bureau d’Information Touristique 2\, rue du Bord de mer Schoelcher \nTarif unique : 5 euro (01 samedi par mois jusqu’à 31/05/2026\, Selon dates prévues) \nhttps://my.bizouk.com/balade-culturelle-au-coeur
URL:https://terresducentremartinique.fr/event/visite-de-lhabitation-fonds-rousseau-2/2026-03-07/
LOCATION:Bourg de Schoelcher
ATTACH;FMTTYPE=image/jpeg:https://terresducentremartinique.fr/wp-content/uploads/2026/02/visiteculturelle.jpg
ORGANIZER;CN="Office de Tourisme Terres du Centre Martinique":MAILTO:contact@tourisme-centre.fr
END:VEVENT
BEGIN:VEVENT
DTSTART;TZID=America/Martinique:20260308T073000
DTEND;TZID=America/Martinique:20260308T090000
DTSTAMP:20260419T181119
CREATED:20260302T164829Z
LAST-MODIFIED:20260302T164829Z
UID:10005279-1772955000-1772960400@terresducentremartinique.fr
SUMMARY:BOUGE ET DANSE 212
DESCRIPTION: Bouge et Danse 212 ! La Ville de Saint‑Joseph et le Service des Sports vous donnent rendez‑vous dimanche 8 mars\, de 7h30 à 9h\, sur la Place des Fêtes\, pour une séance gratuite de danse\, fitness et cardio animée par K’Ryn Jeanne Rose ! Ambiance assurée par DJ Miimiick Aymerick Une séance ouverte à tous : venez bouger\, transpirer et vous amuser ! Pendant ce temps : Kids Boot Camp à l’Agora (accueil et animations pour les enfants de 5 à 11 ans) avec la All For One Academy.Un grand merci à nos partenaires : ARS Martinique France-Antilles Martinique Jbs Prestation Squat MoovingUn moment vitalité\, fun et énergie à ne pas manquer ! 
URL:https://terresducentremartinique.fr/event/bouge-et-danse-212-2/
LOCATION:Place des fêtes de St Joseph\, Saint Joseph\, Saint Joseph\, 97212\, Martinique
ATTACH;FMTTYPE=image/jpeg:https://terresducentremartinique.fr/wp-content/uploads/2026/03/STJO.jpg
END:VEVENT
END:VCALENDAR