BEGIN:VCALENDAR
VERSION:2.0
PRODID:-//Terres du Centre Martinique - ECPv6.15.20//NONSGML v1.0//EN
CALSCALE:GREGORIAN
METHOD:PUBLISH
X-WR-CALNAME:Terres du Centre Martinique
X-ORIGINAL-URL:https://terresducentremartinique.fr
X-WR-CALDESC:Évènements pour Terres du Centre Martinique
REFRESH-INTERVAL;VALUE=DURATION:PT1H
X-Robots-Tag:noindex
X-PUBLISHED-TTL:PT1H
BEGIN:VTIMEZONE
TZID:America/Martinique
BEGIN:STANDARD
TZOFFSETFROM:-0400
TZOFFSETTO:-0400
TZNAME:AST
DTSTART:20250101T000000
END:STANDARD
END:VTIMEZONE
BEGIN:VEVENT
DTSTART;TZID=America/Martinique:20260502T180000
DTEND;TZID=America/Martinique:20260502T230000
DTSTAMP:20260421T152845
CREATED:20260421T144706Z
LAST-MODIFIED:20260421T144706Z
UID:10005294-1777744800-1777762800@terresducentremartinique.fr
SUMMARY:FÊTE PATRONALE DE SAINT JOSEPH
DESCRIPTION:SAINT‑JOSEPH ENTRE EN FÊTE !  Les 2 & 3 mai\, la Place des Fêtes vibrera au rythme de la Fête patronale de Saint‑Joseph Deux jours de shows\, de danse\, de culture et de partage\, pour petits et grands ! Sur scène\, une programmation explosive avec notamment :Krys\, Princess Lover\, Anccy Clet\, Shanika\, Panik\, le Ballet Xpoman\, Iti Kréol\, Kay Man Frouch\, Thierry Adèle et bien d’autres surprises… Saint‑Joseph : une terre\, une source\, une fête   On se retrouve les 2 & 3 mai !
URL:https://terresducentremartinique.fr/event/fete-patronale-de-saint-joseph-3/2026-05-02/
LOCATION:Place des fêtes de St Joseph\, Saint Joseph\, Saint Joseph\, 97212\, Martinique
ATTACH;FMTTYPE=image/jpeg:https://terresducentremartinique.fr/wp-content/uploads/2026/04/fetestjo.jpg
END:VEVENT
BEGIN:VEVENT
DTSTART;TZID=America/Martinique:20260503T180000
DTEND;TZID=America/Martinique:20260503T230000
DTSTAMP:20260421T152845
CREATED:20260421T144706Z
LAST-MODIFIED:20260421T144706Z
UID:10005295-1777831200-1777849200@terresducentremartinique.fr
SUMMARY:FÊTE PATRONALE DE SAINT JOSEPH
DESCRIPTION:SAINT‑JOSEPH ENTRE EN FÊTE !  Les 2 & 3 mai\, la Place des Fêtes vibrera au rythme de la Fête patronale de Saint‑Joseph Deux jours de shows\, de danse\, de culture et de partage\, pour petits et grands ! Sur scène\, une programmation explosive avec notamment :Krys\, Princess Lover\, Anccy Clet\, Shanika\, Panik\, le Ballet Xpoman\, Iti Kréol\, Kay Man Frouch\, Thierry Adèle et bien d’autres surprises… Saint‑Joseph : une terre\, une source\, une fête   On se retrouve les 2 & 3 mai !
URL:https://terresducentremartinique.fr/event/fete-patronale-de-saint-joseph-3/2026-05-03/
LOCATION:Place des fêtes de St Joseph\, Saint Joseph\, Saint Joseph\, 97212\, Martinique
ATTACH;FMTTYPE=image/jpeg:https://terresducentremartinique.fr/wp-content/uploads/2026/04/fetestjo.jpg
END:VEVENT
END:VCALENDAR