BEGIN:VCALENDAR
VERSION:2.0
PRODID:-//Terres du Centre Martinique - ECPv6.15.20//NONSGML v1.0//EN
CALSCALE:GREGORIAN
METHOD:PUBLISH
X-WR-CALNAME:Terres du Centre Martinique
X-ORIGINAL-URL:https://terresducentremartinique.fr
X-WR-CALDESC:Évènements pour Terres du Centre Martinique
REFRESH-INTERVAL;VALUE=DURATION:PT1H
X-Robots-Tag:noindex
X-PUBLISHED-TTL:PT1H
BEGIN:VTIMEZONE
TZID:America/Martinique
BEGIN:STANDARD
TZOFFSETFROM:-0400
TZOFFSETTO:-0400
TZNAME:AST
DTSTART:20250101T000000
END:STANDARD
END:VTIMEZONE
BEGIN:VEVENT
DTSTART;TZID=America/Martinique:20260501T070000
DTEND;TZID=America/Martinique:20260501T120000
DTSTAMP:20260421T114643
CREATED:20260420T181953Z
LAST-MODIFIED:20260420T181953Z
UID:10005293-1777618800-1777636800@terresducentremartinique.fr
SUMMARY:RANDONNEE CASCADE ANBASO
DESCRIPTION:Une belle randonnée au cœur de la forêt à la cascade Anbaso\, à Fonds Lahaye Schoelcher. \nVendredi 01er mai 2026 dès 7h00 jusqu’à 12h00 environ. \nDépart en bus 7h00 Résidence Eolia et 7h30 Place Mahault- parking du TCSP \nRenseignements : 0696 076121 ou 0696 714932
URL:https://terresducentremartinique.fr/event/randonnee-cascade-anbaso/
LOCATION:Fonds Lahaye\, Schoelcher\, 97233\, Martinique
ATTACH;FMTTYPE=image/jpeg:https://terresducentremartinique.fr/wp-content/uploads/2026/04/rando.jpeg
END:VEVENT
END:VCALENDAR